BEGIN:VCALENDAR
VERSION:2.0
PRODID:-//Country Gardener - ECPv5.1.3//NONSGML v1.0//EN
CALSCALE:GREGORIAN
METHOD:PUBLISH
X-WR-CALNAME:Country Gardener
X-ORIGINAL-URL:https://www.countrygardener.co.uk
X-WR-CALDESC:Events for Country Gardener
BEGIN:VTIMEZONE
TZID:UTC
BEGIN:STANDARD
TZOFFSETFROM:+0000
TZOFFSETTO:+0000
TZNAME:UTC
DTSTART:20250101T000000
END:STANDARD
END:VTIMEZONE
BEGIN:VEVENT
DTSTART;TZID=UTC:20250529T193000
DTEND;TZID=UTC:20250529T193000
DTSTAMP:20260424T151034
CREATED:20250428T170311Z
LAST-MODIFIED:20250428T170312Z
UID:3710-1748547000-1748547000@www.countrygardener.co.uk
SUMMARY:Beaulieu and District Gardening Club 
DESCRIPTION:\n\n\n ‘MEDITERRANEAN GARDENING AT HOME AND ABROAD’ – BEN TURNER  \n\n\n\n\n\n\n\n\n\n\n
URL:https://www.countrygardener.co.uk/event/beaulieu-and-district-gardening-club-2/
LOCATION:Beaulieu Village Hall\, High Street\, Beaulieu\, SO42 7YA
ORGANIZER;CN="Beaulieu%20and%20District%20Gardening%20Club":MAILTO:lapkerr@gmail.com
END:VEVENT
END:VCALENDAR