BEGIN:VCALENDAR
VERSION:2.0
PRODID:-//Country Gardener - ECPv5.1.3//NONSGML v1.0//EN
CALSCALE:GREGORIAN
METHOD:PUBLISH
X-WR-CALNAME:Country Gardener
X-ORIGINAL-URL:https://www.countrygardener.co.uk
X-WR-CALDESC:Events for Country Gardener
BEGIN:VTIMEZONE
TZID:UTC
BEGIN:STANDARD
TZOFFSETFROM:+0000
TZOFFSETTO:+0000
TZNAME:UTC
DTSTART:20250101T000000
END:STANDARD
END:VTIMEZONE
BEGIN:VEVENT
DTSTART;TZID=UTC:20250604T140000
DTEND;TZID=UTC:20250604T140000
DTSTAMP:20260420T121927
CREATED:20250602T115922Z
LAST-MODIFIED:20250602T115923Z
UID:3882-1749045600-1749045600@www.countrygardener.co.uk
SUMMARY:Brixham Horticultural Society 
DESCRIPTION:\n\n\nMONTHLY MEETING  \n\n\n\n\n\n\n\n\n\n\n
URL:https://www.countrygardener.co.uk/event/brixham-horticultural-society/
LOCATION:Catholic Church Hall\, New Road\, Brixham\, TQ5 8NB
END:VEVENT
END:VCALENDAR