BEGIN:VCALENDAR
VERSION:2.0
PRODID:-//Country Gardener - ECPv5.1.3//NONSGML v1.0//EN
CALSCALE:GREGORIAN
METHOD:PUBLISH
X-WR-CALNAME:Country Gardener
X-ORIGINAL-URL:https://www.countrygardener.co.uk
X-WR-CALDESC:Events for Country Gardener
BEGIN:VTIMEZONE
TZID:UTC
BEGIN:STANDARD
TZOFFSETFROM:+0000
TZOFFSETTO:+0000
TZNAME:UTC
DTSTART:20250101T000000
END:STANDARD
END:VTIMEZONE
BEGIN:VEVENT
DTSTART;TZID=UTC:20250612T190000
DTEND;TZID=UTC:20250612T190000
DTSTAMP:20260420T084546
CREATED:20250602T123221Z
LAST-MODIFIED:20250602T123221Z
UID:3942-1749754800-1749754800@www.countrygardener.co.uk
SUMMARY:Busy Bees Gardening Club 
DESCRIPTION:\n\n\n‘HANGING BASKETS & CONTAINERS’ – DAVID BASSIL  \n\n\n\n\n\n\n\n\n\n\n
URL:https://www.countrygardener.co.uk/event/busy-bees-gardening-club-3/
LOCATION:Canford Heath Library\, 9 Mitchell Road\, Poole\, BH17 8UE
ORGANIZER;CN="Busy%20Bees%20Gardening%20Club%C2%A0":MAILTO:angieoswell7@gmail.com
END:VEVENT
END:VCALENDAR