BEGIN:VCALENDAR
VERSION:2.0
PRODID:-//Country Gardener - ECPv5.1.3//NONSGML v1.0//EN
CALSCALE:GREGORIAN
METHOD:PUBLISH
X-WR-CALNAME:Country Gardener
X-ORIGINAL-URL:https://www.countrygardener.co.uk
X-WR-CALDESC:Events for Country Gardener
BEGIN:VTIMEZONE
TZID:UTC
BEGIN:STANDARD
TZOFFSETFROM:+0000
TZOFFSETTO:+0000
TZNAME:UTC
DTSTART:20250101T000000
END:STANDARD
END:VTIMEZONE
BEGIN:VEVENT
DTSTART;TZID=UTC:20250614T130000
DTEND;TZID=UTC:20250614T170000
DTSTAMP:20260422T085157
CREATED:20250602T123443Z
LAST-MODIFIED:20250602T123444Z
UID:3944-1749906000-1749920400@www.countrygardener.co.uk
SUMMARY:Corfe Mullen Gardening Club 
DESCRIPTION:\n\n\nCORFE MULLEN CARNIVAL STALL  \n\n\n\n\n\n\n\n\n\n\n
URL:https://www.countrygardener.co.uk/event/corfe-mullen-gardening-club/
LOCATION:Corfe Mullen Village Hall\, Towers Way\, Corfe Mullen\, BH21 3JX
ORGANIZER;CN="Corfe%20Mullen%20Gardening%20Club":MAILTO:Corfemullengardeningclub.org.uk
END:VEVENT
END:VCALENDAR