BEGIN:VCALENDAR
VERSION:2.0
PRODID:-//Country Gardener - ECPv5.1.3//NONSGML v1.0//EN
CALSCALE:GREGORIAN
METHOD:PUBLISH
X-WR-CALNAME:Country Gardener
X-ORIGINAL-URL:https://www.countrygardener.co.uk
X-WR-CALDESC:Events for Country Gardener
BEGIN:VTIMEZONE
TZID:UTC
BEGIN:STANDARD
TZOFFSETFROM:+0000
TZOFFSETTO:+0000
TZNAME:UTC
DTSTART:20250101T000000
END:STANDARD
END:VTIMEZONE
BEGIN:VEVENT
DTSTART;TZID=UTC:20250508T180000
DTEND;TZID=UTC:20250508T180000
DTSTAMP:20260424T220424
CREATED:20250429T105906Z
LAST-MODIFIED:20250429T105906Z
UID:3747-1746727200-1746727200@www.countrygardener.co.uk
SUMMARY:East Coker Gardening Club 
DESCRIPTION:\n\n\nMEMBERS SHOPPING EVENT AT BRIMSMORE GARDEN CENTRE \n\n\n\n\n\n\n\n\n\n\n
URL:https://www.countrygardener.co.uk/event/east-coker-gardening-club/
LOCATION:Brimsmore Garden Centre\, Tintinhull Rd\, Yeovil\, BA21 3NU
END:VEVENT
END:VCALENDAR