BEGIN:VCALENDAR
VERSION:2.0
PRODID:-//Country Gardener - ECPv5.1.3//NONSGML v1.0//EN
CALSCALE:GREGORIAN
METHOD:PUBLISH
X-WR-CALNAME:Country Gardener
X-ORIGINAL-URL:https://www.countrygardener.co.uk
X-WR-CALDESC:Events for Country Gardener
BEGIN:VTIMEZONE
TZID:UTC
BEGIN:STANDARD
TZOFFSETFROM:+0000
TZOFFSETTO:+0000
TZNAME:UTC
DTSTART:20250101T000000
END:STANDARD
END:VTIMEZONE
BEGIN:VEVENT
DTSTART;TZID=UTC:20250610T190000
DTEND;TZID=UTC:20250610T190000
DTSTAMP:20260420T090149
CREATED:20250602T125049Z
LAST-MODIFIED:20250602T125050Z
UID:3978-1749582000-1749582000@www.countrygardener.co.uk
SUMMARY:Eastwood Gardeners’ Club 
DESCRIPTION:\n\n\n‘MAKING A SUSTAINABLE GARDEN’ – CLIVE STAINTON  \n\n\n\n\n\n\n\n\n\n\n
URL:https://www.countrygardener.co.uk/event/eastwood-gardeners-club-2/
LOCATION:Avon Hall\, Turnberries\, Thornbury\, BS35 2BB
ORGANIZER;CN="Eastwood%20Gardeners%E2%80%99%20Club":MAILTO:secretary.egc95@gmail.com
END:VEVENT
END:VCALENDAR