BEGIN:VCALENDAR
VERSION:2.0
PRODID:-//Country Gardener - ECPv5.1.3//NONSGML v1.0//EN
CALSCALE:GREGORIAN
METHOD:PUBLISH
X-WR-CALNAME:Country Gardener
X-ORIGINAL-URL:https://www.countrygardener.co.uk
X-WR-CALDESC:Events for Country Gardener
BEGIN:VTIMEZONE
TZID:UTC
BEGIN:STANDARD
TZOFFSETFROM:+0000
TZOFFSETTO:+0000
TZNAME:UTC
DTSTART:20250101T000000
END:STANDARD
END:VTIMEZONE
BEGIN:VEVENT
DTSTART;TZID=UTC:20250610T190000
DTEND;TZID=UTC:20250610T190000
DTSTAMP:20260420T084622
CREATED:20250602T114558Z
LAST-MODIFIED:20250602T114559Z
UID:3869-1749582000-1749582000@www.countrygardener.co.uk
SUMMARY:Frome Selwood Horticultural Society 
DESCRIPTION:\n\n\n‘CLIMATE CHANGE GARDEN’ – SALLY MORGAN  \n\n\n\n\n\n\n\n\n\n\n
URL:https://www.countrygardener.co.uk/event/frome-selwood-horticultural-society-3/
LOCATION:Critchill School\, Frome\, BA11 4LD
END:VEVENT
END:VCALENDAR