BEGIN:VCALENDAR
VERSION:2.0
PRODID:-//Country Gardener - ECPv5.1.3//NONSGML v1.0//EN
CALSCALE:GREGORIAN
METHOD:PUBLISH
X-WR-CALNAME:Country Gardener
X-ORIGINAL-URL:https://www.countrygardener.co.uk
X-WR-CALDESC:Events for Country Gardener
BEGIN:VTIMEZONE
TZID:UTC
BEGIN:STANDARD
TZOFFSETFROM:+0000
TZOFFSETTO:+0000
TZNAME:UTC
DTSTART:20250101T000000
END:STANDARD
END:VTIMEZONE
BEGIN:VEVENT
DTSTART;TZID=UTC:20250525T120000
DTEND;TZID=UTC:20250526T180000
DTSTAMP:20260424T150028
CREATED:20250428T171019Z
LAST-MODIFIED:20250428T171019Z
UID:3720-1748174400-1748282400@www.countrygardener.co.uk
SUMMARY:Grayshott Open Gardens
DESCRIPTION:\n\n\nHIDDEN GARDENS OF GRAYSHOTT  \n\n\n\nMore than 35 open gardens \n\n\n\n\n\n\n\n\n\n\n
URL:https://www.countrygardener.co.uk/event/grayshott-open-gardens/
LOCATION:Millennium Green\, Headley Rd
END:VEVENT
END:VCALENDAR