BEGIN:VCALENDAR
VERSION:2.0
PRODID:-//Country Gardener - ECPv5.1.3//NONSGML v1.0//EN
CALSCALE:GREGORIAN
METHOD:PUBLISH
X-WR-CALNAME:Country Gardener
X-ORIGINAL-URL:https://www.countrygardener.co.uk
X-WR-CALDESC:Events for Country Gardener
BEGIN:VTIMEZONE
TZID:UTC
BEGIN:STANDARD
TZOFFSETFROM:+0000
TZOFFSETTO:+0000
TZNAME:UTC
DTSTART:20260101T000000
END:STANDARD
END:VTIMEZONE
BEGIN:VEVENT
DTSTART;TZID=UTC:20260319T193000
DTEND;TZID=UTC:20260319T193000
DTSTAMP:20260420T083901
CREATED:20260204T160919Z
LAST-MODIFIED:20260204T160920Z
UID:4857-1773948600-1773948600@www.countrygardener.co.uk
SUMMARY:March Meeting
DESCRIPTION:\n\n\nOur speaker at this month’s meeting will be Joanne Bolhoven – ‘Growing our Future’ from Forestry England. This is also our open evening for new members with wine and nibbles. \n\n\n\nems_ogrady@hotmail.com \n\n\n\n\n\n\n\n\n\n\n
URL:https://www.countrygardener.co.uk/event/march-meeting/
LOCATION:Sway Village Hall\, Middle Rd\, Sway\, Lymington\, SO41 6BB
ORGANIZER;CN="Sway%20Gardening%20Club":MAILTO:swaygardening@outlook.com
END:VEVENT
END:VCALENDAR