BEGIN:VCALENDAR
VERSION:2.0
PRODID:-//Country Gardener - ECPv5.1.3//NONSGML v1.0//EN
CALSCALE:GREGORIAN
METHOD:PUBLISH
X-WR-CALNAME:Country Gardener
X-ORIGINAL-URL:https://www.countrygardener.co.uk
X-WR-CALDESC:Events for Country Gardener
BEGIN:VTIMEZONE
TZID:UTC
BEGIN:STANDARD
TZOFFSETFROM:+0000
TZOFFSETTO:+0000
TZNAME:UTC
DTSTART:20250101T000000
END:STANDARD
END:VTIMEZONE
BEGIN:VEVENT
DTSTART;TZID=UTC:20250521T190000
DTEND;TZID=UTC:20250521T190000
DTSTAMP:20260424T163800
CREATED:20250428T165622Z
LAST-MODIFIED:20250428T165623Z
UID:3693-1747854000-1747854000@www.countrygardener.co.uk
SUMMARY:Milford on Sea Gardeners Club 
DESCRIPTION:\n\n\nHanging baskets and pots – demonstration  Ray Broughton \n\n\n\n\n\n\n\n\n\n\n
URL:https://www.countrygardener.co.uk/event/milford-on-sea-gardeners-club/
LOCATION:The Bridge aka Milford Community Centre\, Sea Road\, SO41 0PH
ORGANIZER;CN="Milford%20on%20Sea%20Gardeners%20Club":MAILTO:milfordgardeners@gmail.com
END:VEVENT
END:VCALENDAR