BEGIN:VCALENDAR
VERSION:2.0
PRODID:-//Country Gardener - ECPv5.1.3//NONSGML v1.0//EN
CALSCALE:GREGORIAN
METHOD:PUBLISH
X-WR-CALNAME:Country Gardener
X-ORIGINAL-URL:https://www.countrygardener.co.uk
X-WR-CALDESC:Events for Country Gardener
BEGIN:VTIMEZONE
TZID:UTC
BEGIN:STANDARD
TZOFFSETFROM:+0000
TZOFFSETTO:+0000
TZNAME:UTC
DTSTART:20260101T000000
END:STANDARD
END:VTIMEZONE
BEGIN:VEVENT
DTSTART;TZID=UTC:20260408T190000
DTEND;TZID=UTC:20260408T213000
DTSTAMP:20260421T090617
CREATED:20251121T120408Z
LAST-MODIFIED:20251121T121157Z
UID:4498-1775674800-1775683800@www.countrygardener.co.uk
SUMMARY:Spring Colours in the Garden
DESCRIPTION:\n\n\nAlan French will be providing an interesting talk about maximising spring colour in the garden. \n\n\n\n\n\n\n\n\n\n\n
URL:https://www.countrygardener.co.uk/event/spring-colours-in-the-garden/
LOCATION:Goodleigh Village Hall\, Goodleigh\, Barnstaple\, EX32 7LU
CATEGORIES:Garden Club Talks
ORGANIZER;CN="Goodleigh%20Horticultural%20Society":MAILTO:uprightpauline@gmail.com
END:VEVENT
END:VCALENDAR