BEGIN:VCALENDAR
VERSION:2.0
PRODID:-//Country Gardener - ECPv5.1.3//NONSGML v1.0//EN
CALSCALE:GREGORIAN
METHOD:PUBLISH
X-WR-CALNAME:Country Gardener
X-ORIGINAL-URL:https://www.countrygardener.co.uk
X-WR-CALDESC:Events for Country Gardener
BEGIN:VTIMEZONE
TZID:UTC
BEGIN:STANDARD
TZOFFSETFROM:+0000
TZOFFSETTO:+0000
TZNAME:UTC
DTSTART:20250101T000000
END:STANDARD
END:VTIMEZONE
BEGIN:VEVENT
DTSTART;TZID=UTC:20250518T100000
DTEND;TZID=UTC:20250518T100000
DTSTAMP:20260421T071921
CREATED:20250428T154619Z
LAST-MODIFIED:20250428T154620Z
UID:3617-1747562400-1747562400@www.countrygardener.co.uk
SUMMARY: Stokenham Garden Society 
DESCRIPTION:\n\n\n GRAND PLANT SALE AT CHILLINGTON VILLAGE HALL  \n\n\n\n\n\n\n\n\n\n\n\n\n\n \n
URL:https://www.countrygardener.co.uk/event/stokenham-garden-society/
LOCATION:Chillington Village Hall\, Tanpits Lane\, Chillington\, Kingsbridge\, TQ7 2LG
ORGANIZER;CN="Stokenham%20Garden%20Society%C2%A0":MAILTO:stokenhamgardensoc@gmail.com
END:VEVENT
END:VCALENDAR