BEGIN:VCALENDAR
VERSION:2.0
PRODID:-//Country Gardener - ECPv5.1.3//NONSGML v1.0//EN
CALSCALE:GREGORIAN
METHOD:PUBLISH
X-WR-CALNAME:Country Gardener
X-ORIGINAL-URL:https://www.countrygardener.co.uk
X-WR-CALDESC:Events for Country Gardener
BEGIN:VTIMEZONE
TZID:UTC
BEGIN:STANDARD
TZOFFSETFROM:+0000
TZOFFSETTO:+0000
TZNAME:UTC
DTSTART:20260101T000000
END:STANDARD
END:VTIMEZONE
BEGIN:VEVENT
DTSTART;TZID=UTC:20260907T190000
DTEND;TZID=UTC:20260907T210000
DTSTAMP:20260422T090237
CREATED:20260123T151505Z
LAST-MODIFIED:20260123T151506Z
UID:4774-1788807600-1788814800@www.countrygardener.co.uk
SUMMARY:Tantalising Tulips
DESCRIPTION:\n\n\nBella Given\, Plants Woman\, talks about the variety and how to grow tulips. \n\n\n\n\n\n\n\n\n\n\n
URL:https://www.countrygardener.co.uk/event/tantalising-tulips/
LOCATION:West Pennard Village Hall\, Newtown Lane\, West Pennard\, Somerset\, BA6 8NL
CATEGORIES:Garden Club Talks
ORGANIZER;CN="West%20Pennard%20Garden%20Club":MAILTO:karenrussell53@icloud.com
END:VEVENT
END:VCALENDAR