BEGIN:VCALENDAR
VERSION:2.0
PRODID:-//Country Gardener - ECPv5.1.3//NONSGML v1.0//EN
CALSCALE:GREGORIAN
METHOD:PUBLISH
X-WR-CALNAME:Country Gardener
X-ORIGINAL-URL:https://www.countrygardener.co.uk
X-WR-CALDESC:Events for Country Gardener
BEGIN:VTIMEZONE
TZID:UTC
BEGIN:STANDARD
TZOFFSETFROM:+0000
TZOFFSETTO:+0000
TZNAME:UTC
DTSTART:20250101T000000
END:STANDARD
END:VTIMEZONE
BEGIN:VEVENT
DTSTART;TZID=UTC:20250608T120000
DTEND;TZID=UTC:20250608T180000
DTSTAMP:20260420T100936
CREATED:20250602T120444Z
LAST-MODIFIED:20250602T120445Z
UID:3892-1749384000-1749405600@www.countrygardener.co.uk
SUMMARY:Topsham Open Gardens 
DESCRIPTION:\n\n\nTown Trail \n\n\n\n\n\n\n\n\n\n\n
URL:https://www.countrygardener.co.uk/event/topsham-open-gardens/
LOCATION:Topsham\, Follett Road\, EX3 0HQ
ORGANIZER;CN="Topsham%20Museum":MAILTO:info@topshammuseum.org.uk
END:VEVENT
END:VCALENDAR