BEGIN:VCALENDAR
VERSION:2.0
PRODID:-//Country Gardener - ECPv5.1.3//NONSGML v1.0//EN
CALSCALE:GREGORIAN
METHOD:PUBLISH
X-WR-CALNAME:Country Gardener
X-ORIGINAL-URL:https://www.countrygardener.co.uk
X-WR-CALDESC:Events for Country Gardener
BEGIN:VTIMEZONE
TZID:UTC
BEGIN:STANDARD
TZOFFSETFROM:+0000
TZOFFSETTO:+0000
TZNAME:UTC
DTSTART:20250101T000000
END:STANDARD
END:VTIMEZONE
BEGIN:VEVENT
DTSTART;TZID=UTC:20250609T143000
DTEND;TZID=UTC:20250609T143000
DTSTAMP:20260424T101943
CREATED:20250602T114442Z
LAST-MODIFIED:20250602T114443Z
UID:3865-1749479400-1749479400@www.countrygardener.co.uk
SUMMARY:West Moors Horticultural Society 
DESCRIPTION:\n\n\n‘CAREYS\, FINDING THE REAL SECRET GARDEN’ – SIMON CONSTANTINE  \n\n\n\n\n\n\n\n\n\n\n
URL:https://www.countrygardener.co.uk/event/west-moors-horticultural-society-2/
LOCATION:West Moors Memorial Hall\, Station Road\, West Moors\, BH22 0HZ
ORGANIZER;CN="West%20Moors%20Horticultural%20Society":MAILTO:wmhorticultural.society@gmail.com
END:VEVENT
END:VCALENDAR