BEGIN:VCALENDAR
VERSION:2.0
PRODID:-//Country Gardener - ECPv5.1.3//NONSGML v1.0//EN
CALSCALE:GREGORIAN
METHOD:PUBLISH
X-WR-CALNAME:Country Gardener
X-ORIGINAL-URL:https://www.countrygardener.co.uk
X-WR-CALDESC:Events for Country Gardener
BEGIN:VTIMEZONE
TZID:UTC
BEGIN:STANDARD
TZOFFSETFROM:+0000
TZOFFSETTO:+0000
TZNAME:UTC
DTSTART:20250101T000000
END:STANDARD
END:VTIMEZONE
BEGIN:VEVENT
DTSTART;TZID=UTC:20250528T193000
DTEND;TZID=UTC:20250528T193000
DTSTAMP:20260424T145439
CREATED:20250428T151329Z
LAST-MODIFIED:20250428T151330Z
UID:3559-1748460600-1748460600@www.countrygardener.co.uk
SUMMARY: Wickhamford Gardening Club 
DESCRIPTION:\n\n\n ‘THE SALVIA FAMILY’ – ROBERT CHAMPION  \n\n\n\n\n\n\n\n\n\n\n
URL:https://www.countrygardener.co.uk/event/wickhamford-gardening-club/
LOCATION:Wickhamford Memorial Hall\, Manor Road\, Wickhamford\, WR11 7SA
ORGANIZER;CN="%C2%A0Wickhamford%20Gardening%20Club%C2%A0":MAILTO:ladingley@gmail.com
END:VEVENT
END:VCALENDAR