BEGIN:VCALENDAR
VERSION:2.0
PRODID:-//Country Gardener - ECPv5.1.3//NONSGML v1.0//EN
CALSCALE:GREGORIAN
METHOD:PUBLISH
X-WR-CALNAME:Country Gardener
X-ORIGINAL-URL:https://www.countrygardener.co.uk
X-WR-CALDESC:Events for Country Gardener
BEGIN:VTIMEZONE
TZID:UTC
BEGIN:STANDARD
TZOFFSETFROM:+0000
TZOFFSETTO:+0000
TZNAME:UTC
DTSTART:20260101T000000
END:STANDARD
TZID:UTC
BEGIN:STANDARD
TZOFFSETFROM:+0000
TZOFFSETTO:+0000
TZNAME:UTC
DTSTART:20260101T000000
END:STANDARD
END:VTIMEZONE
BEGIN:VEVENT
DTSTART;TZID=UTC:20260613T130000
DTEND;TZID=UTC:20260614T170000
DTSTAMP:20260420T161010
CREATED:20260410T101453Z
LAST-MODIFIED:20260410T101454Z
UID:5193-1781355600-1781456400@www.countrygardener.co.uk
SUMMARY:Burford Open Gardens
DESCRIPTION:\n\n\nAround 20 private gardens are open for visitors. Maps provided and teas available at selected gardens. Tickets £8 in advance.Guide dogs only and sadly most gardens are not suitable for wheelchairs. \n\n\n\nwww.ticketsource.co.uk/burford-festival \n\n\n\n\n\n\n\n\n\n\n
URL:https://www.countrygardener.co.uk/event/burford-open-gardens/
LOCATION:Burford Festival\, High Street\, Burford\, OX18 4QR
CATEGORIES:Open Gardens
END:VEVENT
BEGIN:VEVENT
DTSTART;TZID=UTC:20260614T133000
DTEND;TZID=UTC:20260614T170000
DTSTAMP:20260420T161010
CREATED:20260410T100833Z
LAST-MODIFIED:20260410T100834Z
UID:5181-1781443800-1781456400@www.countrygardener.co.uk
SUMMARY:Guiting Grange Open Garden
DESCRIPTION:\n\n\nA rare chance to visit this beautiful Garden set a stunning Cotswold setting. Home made teas. Free Parking. Regrettably\, no dogs\, limited accessibilityAdult entry £10.00; 16 yrs & under\, free. \n\n\n\n\n\n\n\n\n\n\n
URL:https://www.countrygardener.co.uk/event/guiting-grange-open-garden/
LOCATION:Guiting Grange\, Guiting Power\, Cheltenham\, GL54 5UD
CATEGORIES:Open Gardens
ORGANIZER;CN="Guiting%20Power%20PCC":MAILTO:roland.greenhill@icloud.com
END:VEVENT
END:VCALENDAR